Package: iModMixData Version: 1.0.0 Maintainer: Isis Narvaez-Bandera MaintainerEmail: isis.narvaez at upr.edu git_url: https://git.bioconductor.org/packages/iModMixData git_branch: RELEASE_3_22 git_last_commit: 4b6ab7c git_last_commit_date: 2025-10-29 10:07:04 -0400 (Wed, 29 Oct 2025)