Package: iModMixData Version: 0.99.6 Command: /home/biocbuild/bbs-3.22-bioc/R/bin/R CMD INSTALL iModMixData StartedAt: 2025-10-21 10:57:25 -0400 (Tue, 21 Oct 2025) EndedAt: 2025-10-21 10:57:26 -0400 (Tue, 21 Oct 2025) EllapsedTime: 1.6 seconds RetCode: 0 Status: OK