Package: leeBamViews Version: 1.46.0 Command: /home/biocbuild/bbs-3.22-bioc/R/bin/R CMD INSTALL leeBamViews StartedAt: 2025-11-20 11:01:47 -0500 (Thu, 20 Nov 2025) EndedAt: 2025-11-20 11:02:22 -0500 (Thu, 20 Nov 2025) EllapsedTime: 34.5 seconds RetCode: 0 Status: OK