Package: mCSEAdata Version: 1.29.0 Command: /home/biocbuild/bbs-3.22-bioc/R/bin/R CMD INSTALL mCSEAdata StartedAt: 2025-10-21 10:58:20 -0400 (Tue, 21 Oct 2025) EndedAt: 2025-10-21 10:59:26 -0400 (Tue, 21 Oct 2025) EllapsedTime: 65.7 seconds RetCode: 0 Status: OK