Package: maqcExpression4plex Version: 1.54.0 Command: /home/biocbuild/bbs-3.22-bioc/R/bin/R CMD INSTALL maqcExpression4plex StartedAt: 2025-10-30 10:55:37 -0400 (Thu, 30 Oct 2025) EndedAt: 2025-10-30 10:55:38 -0400 (Thu, 30 Oct 2025) EllapsedTime: 1.8 seconds RetCode: 0 Status: OK