Package: methylclockData Version: 1.17.0 Command: /home/biocbuild/bbs-3.22-bioc/R/bin/R CMD build --keep-empty-dirs --no-resave-data methylclockData StartedAt: 2025-10-16 11:29:26 -0400 (Thu, 16 Oct 2025) EndedAt: 2025-10-16 11:30:46 -0400 (Thu, 16 Oct 2025) EllapsedTime: 79.5 seconds RetCode: 0 Status: OK PackageFile: methylclockData_1.17.0.tar.gz PackageFileSize: 230.7 KiB