Package: methylclockData Version: 1.17.0 Command: /home/biocbuild/bbs-3.22-bioc/R/bin/R CMD INSTALL methylclockData StartedAt: 2025-10-16 11:04:46 -0400 (Thu, 16 Oct 2025) EndedAt: 2025-10-16 11:05:32 -0400 (Thu, 16 Oct 2025) EllapsedTime: 46.0 seconds RetCode: 0 Status: OK