Package: minfiData Version: 0.55.0 Command: /home/biocbuild/bbs-3.22-bioc/R/bin/R CMD INSTALL minfiData StartedAt: 2025-10-28 11:02:40 -0400 (Tue, 28 Oct 2025) EndedAt: 2025-10-28 11:03:22 -0400 (Tue, 28 Oct 2025) EllapsedTime: 41.6 seconds RetCode: 0 Status: OK