Package: minfiDataEPIC Version: 1.36.0 Maintainer: Kasper Daniel Hansen MaintainerEmail: kasperdanielhansen at gmail.com git_url: https://git.bioconductor.org/packages/minfiDataEPIC git_branch: RELEASE_3_22 git_last_commit: b6347d8 git_last_commit_date: 2025-10-29 09:58:37 -0500 (Wed, 29 Oct 2025)