Package: mosaicsExample Version: 1.47.0 Command: /home/biocbuild/bbs-3.22-bioc/R/bin/R CMD build --keep-empty-dirs --no-resave-data mosaicsExample StartedAt: 2025-07-24 11:31:50 -0400 (Thu, 24 Jul 2025) EndedAt: 2025-07-24 11:32:08 -0400 (Thu, 24 Jul 2025) EllapsedTime: 18.4 seconds RetCode: 0 Status: OK PackageFile: mosaicsExample_1.47.0.tar.gz PackageFileSize: 48.06 MiB