Package: msPurityData Version: 1.37.0 Command: /home/biocbuild/bbs-3.22-bioc/R/bin/R CMD build --keep-empty-dirs --no-resave-data msPurityData StartedAt: 2025-10-28 11:30:53 -0400 (Tue, 28 Oct 2025) EndedAt: 2025-10-28 11:33:20 -0400 (Tue, 28 Oct 2025) EllapsedTime: 147.2 seconds RetCode: 0 Status: OK PackageFile: msPurityData_1.37.0.tar.gz PackageFileSize: 233.5 MiB