Package: msd16s Version: 1.29.0 Command: /home/biocbuild/bbs-3.22-bioc/R/bin/R CMD INSTALL msd16s StartedAt: 2025-10-16 10:56:27 -0400 (Thu, 16 Oct 2025) EndedAt: 2025-10-16 10:56:35 -0400 (Thu, 16 Oct 2025) EllapsedTime: 7.6 seconds RetCode: 0 Status: OK