Package: mtbls2 Version: 1.40.0 Command: /home/biocbuild/bbs-3.22-bioc/R/bin/R CMD INSTALL mtbls2 StartedAt: 2025-10-30 10:55:45 -0400 (Thu, 30 Oct 2025) EndedAt: 2025-10-30 10:56:29 -0400 (Thu, 30 Oct 2025) EllapsedTime: 44.4 seconds RetCode: 0 Status: OK