Package: multiWGCNAdata Version: 1.7.0 Command: /home/biocbuild/bbs-3.22-bioc/R/bin/R CMD build --keep-empty-dirs --no-resave-data multiWGCNAdata StartedAt: 2025-10-16 11:31:58 -0400 (Thu, 16 Oct 2025) EndedAt: 2025-10-16 11:32:23 -0400 (Thu, 16 Oct 2025) EllapsedTime: 25.2 seconds RetCode: 0 Status: OK PackageFile: multiWGCNAdata_1.7.0.tar.gz PackageFileSize: 221.2 KiB