Package: multiWGCNAdata Version: 1.7.0 Command: /home/biocbuild/bbs-3.22-bioc/R/bin/R CMD INSTALL multiWGCNAdata StartedAt: 2025-10-16 10:57:32 -0400 (Thu, 16 Oct 2025) EndedAt: 2025-10-16 10:57:42 -0400 (Thu, 16 Oct 2025) EllapsedTime: 9.7 seconds RetCode: 0 Status: OK