Package: octad.db Version: 1.11.0 Command: /home/biocbuild/bbs-3.22-bioc/R/bin/R CMD build --keep-empty-dirs --no-resave-data octad.db StartedAt: 2025-10-21 11:35:10 -0400 (Tue, 21 Oct 2025) EndedAt: 2025-10-21 11:35:35 -0400 (Tue, 21 Oct 2025) EllapsedTime: 24.6 seconds RetCode: 0 Status: OK PackageFile: octad.db_1.11.0.tar.gz PackageFileSize: 222.4 KiB