Package: pasilla Version: 1.37.0 Command: /home/biocbuild/bbs-3.22-bioc/R/bin/R CMD INSTALL pasilla StartedAt: 2025-10-09 11:02:09 -0400 (Thu, 09 Oct 2025) EndedAt: 2025-10-09 11:02:41 -0400 (Thu, 09 Oct 2025) EllapsedTime: 32.4 seconds RetCode: 0 Status: OK