Package: pepDat Version: 1.29.0 Command: /home/biocbuild/bbs-3.22-bioc/R/bin/R CMD INSTALL pepDat StartedAt: 2025-10-16 11:01:21 -0400 (Thu, 16 Oct 2025) EndedAt: 2025-10-16 11:01:29 -0400 (Thu, 16 Oct 2025) EllapsedTime: 8.3 seconds RetCode: 0 Status: OK