Package: preciseTADhub Version: 1.18.0 Maintainer: Mikhail Dozmorov MaintainerEmail: mikhail.dozmorov at gmail.com git_url: https://git.bioconductor.org/packages/preciseTADhub git_branch: RELEASE_3_22 git_last_commit: 1bc6256 git_last_commit_date: 2025-10-29 10:03:00 -0400 (Wed, 29 Oct 2025)