Package: prostateCancerCamcap Version: 1.38.0 Command: /home/biocbuild/bbs-3.22-bioc/R/bin/R CMD build --keep-empty-dirs --no-resave-data prostateCancerCamcap StartedAt: 2025-10-30 11:46:00 -0400 (Thu, 30 Oct 2025) EndedAt: 2025-10-30 11:46:36 -0400 (Thu, 30 Oct 2025) EllapsedTime: 36.6 seconds RetCode: 0 Status: OK PackageFile: prostateCancerCamcap_1.38.0.tar.gz PackageFileSize: 46.88 MiB