Package: prostateCancerCamcap Version: 1.38.0 Command: /home/biocbuild/bbs-3.22-bioc/R/bin/R CMD INSTALL prostateCancerCamcap StartedAt: 2025-10-30 10:56:33 -0400 (Thu, 30 Oct 2025) EndedAt: 2025-10-30 10:56:51 -0400 (Thu, 30 Oct 2025) EllapsedTime: 18.5 seconds RetCode: 0 Status: OK