Package: scpdata Version: 1.17.1 Command: /home/biocbuild/bbs-3.22-bioc/R/bin/R CMD build --keep-empty-dirs --no-resave-data scpdata StartedAt: 2025-10-16 11:40:58 -0400 (Thu, 16 Oct 2025) EndedAt: 2025-10-16 11:42:00 -0400 (Thu, 16 Oct 2025) EllapsedTime: 61.9 seconds RetCode: 0 Status: OK PackageFile: scpdata_1.17.1.tar.gz PackageFileSize: 699.1 KiB