Package: scpdata Version: 1.17.1 Command: /home/biocbuild/bbs-3.22-bioc/R/bin/R CMD INSTALL scpdata StartedAt: 2025-10-16 11:00:38 -0400 (Thu, 16 Oct 2025) EndedAt: 2025-10-16 11:01:13 -0400 (Thu, 16 Oct 2025) EllapsedTime: 34.7 seconds RetCode: 0 Status: OK