Package: stemHypoxia Version: 1.46.0 Command: /home/biocbuild/bbs-3.22-bioc/R/bin/R CMD INSTALL stemHypoxia StartedAt: 2025-11-25 10:55:53 -0500 (Tue, 25 Nov 2025) EndedAt: 2025-11-25 10:55:55 -0500 (Tue, 25 Nov 2025) EllapsedTime: 2.2 seconds RetCode: 0 Status: OK