Package: ExpressionNormalizationWorkflow Version: 1.36.0 Command: /Library/Frameworks/R.framework/Resources/bin/R CMD build --keep-empty-dirs --no-resave-data ExpressionNormalizationWorkflow StartedAt: 2025-11-25 13:10:19 -0500 (Tue, 25 Nov 2025) EndedAt: 2025-11-25 13:22:22 -0500 (Tue, 25 Nov 2025) EllapsedTime: 722.6 seconds RetCode: 0 Status: OK PackageFile: ExpressionNormalizationWorkflow_1.36.0.tar.gz PackageFileSize: 3.351 MiB