Package: ExpressionNormalizationWorkflow Version: 1.36.0 Command: /Library/Frameworks/R.framework/Resources/bin/R CMD INSTALL ExpressionNormalizationWorkflow StartedAt: 2025-11-25 13:01:20 -0500 (Tue, 25 Nov 2025) EndedAt: 2025-11-25 13:02:29 -0500 (Tue, 25 Nov 2025) EllapsedTime: 68.9 seconds RetCode: 0 Status: OK