Package: chipseqDB Version: 1.33.0 Command: /home/biocbuild/bbs-3.22-bioc/R/bin/R CMD INSTALL chipseqDB StartedAt: 2025-10-28 13:00:15 -0400 (Tue, 28 Oct 2025) EndedAt: 2025-10-28 13:00:19 -0400 (Tue, 28 Oct 2025) EllapsedTime: 4.4 seconds RetCode: 0 Status: OK