Package: csawUsersGuide Version: 1.25.0 Command: /home/biocbuild/bbs-3.22-bioc/R/bin/R CMD build --keep-empty-dirs --no-resave-data csawUsersGuide StartedAt: 2025-07-11 13:04:44 -0400 (Fri, 11 Jul 2025) EndedAt: 2025-07-11 13:04:49 -0400 (Fri, 11 Jul 2025) EllapsedTime: 5.0 seconds RetCode: 0 Status: OK PackageFile: csawUsersGuide_1.25.0.tar.gz PackageFileSize: 35.64 KiB