Package: fluentGenomics Version: 1.21.0 Command: /home/biocbuild/bbs-3.22-bioc/R/bin/R CMD build --keep-empty-dirs --no-resave-data fluentGenomics StartedAt: 2025-10-28 13:04:48 -0400 (Tue, 28 Oct 2025) EndedAt: 2025-10-28 13:05:59 -0400 (Tue, 28 Oct 2025) EllapsedTime: 71.0 seconds RetCode: 1 Status: ERROR PackageFile: None PackageFileSize: NA