Package: BloodCancerMultiOmics2017 Version: 1.31.0 Command: /home/biocbuild/bbs-3.23-bioc/R/bin/R CMD INSTALL BloodCancerMultiOmics2017 StartedAt: 2025-11-13 10:59:49 -0500 (Thu, 13 Nov 2025) EndedAt: 2025-11-13 11:00:36 -0500 (Thu, 13 Nov 2025) EllapsedTime: 47.3 seconds RetCode: 0 Status: OK