Package: COSMIC.67 Version: 1.47.0 Command: /home/biocbuild/bbs-3.23-bioc/R/bin/R CMD INSTALL COSMIC.67 StartedAt: 2025-11-13 11:03:40 -0500 (Thu, 13 Nov 2025) EndedAt: 2025-11-13 11:04:16 -0500 (Thu, 13 Nov 2025) EllapsedTime: 35.8 seconds RetCode: 0 Status: OK