Package: CellMapperData Version: 1.37.0 Command: /home/biocbuild/bbs-3.23-bioc/R/bin/R CMD build --keep-empty-dirs --no-resave-data CellMapperData StartedAt: 2025-11-13 11:09:16 -0500 (Thu, 13 Nov 2025) EndedAt: 2025-11-13 11:09:38 -0500 (Thu, 13 Nov 2025) EllapsedTime: 22.3 seconds RetCode: 0 Status: OK PackageFile: CellMapperData_1.37.0.tar.gz PackageFileSize: 147.4 KiB