Package: DropletTestFiles Version: 1.21.0 Command: /home/biocbuild/bbs-3.23-bioc/R/bin/R CMD INSTALL DropletTestFiles StartedAt: 2025-11-13 10:57:33 -0500 (Thu, 13 Nov 2025) EndedAt: 2025-11-13 10:57:46 -0500 (Thu, 13 Nov 2025) EllapsedTime: 13.2 seconds RetCode: 0 Status: OK