Package: DuoClustering2018 Version: 1.29.0 Command: /home/biocbuild/bbs-3.23-bioc/R/bin/R CMD build --keep-empty-dirs --no-resave-data DuoClustering2018 StartedAt: 2025-11-13 11:15:54 -0500 (Thu, 13 Nov 2025) EndedAt: 2025-11-13 11:17:30 -0500 (Thu, 13 Nov 2025) EllapsedTime: 96.7 seconds RetCode: 0 Status: OK PackageFile: DuoClustering2018_1.29.0.tar.gz PackageFileSize: 2.197 MiB