Package: FlowSorted.DLPFC.450k Version: 1.47.0 Command: /home/biocbuild/bbs-3.23-bioc/R/bin/R CMD build --keep-empty-dirs --no-resave-data FlowSorted.DLPFC.450k StartedAt: 2025-11-13 11:18:53 -0500 (Thu, 13 Nov 2025) EndedAt: 2025-11-13 11:20:09 -0500 (Thu, 13 Nov 2025) EllapsedTime: 75.4 seconds RetCode: 0 Status: OK PackageFile: FlowSorted.DLPFC.450k_1.47.0.tar.gz PackageFileSize: 123.7 MiB