Package: HelloRangesData Version: 1.37.0 Command: /home/biocbuild/bbs-3.23-bioc/R/bin/R CMD build --keep-empty-dirs --no-resave-data HelloRangesData StartedAt: 2025-11-13 11:23:40 -0500 (Thu, 13 Nov 2025) EndedAt: 2025-11-13 11:24:15 -0500 (Thu, 13 Nov 2025) EllapsedTime: 34.5 seconds RetCode: 0 Status: OK PackageFile: HelloRangesData_1.37.0.tar.gz PackageFileSize: 45.73 MiB