Package: LungCancerACvsSCCGEO Version: 1.47.0 Command: /home/biocbuild/bbs-3.23-bioc/R/bin/R CMD INSTALL LungCancerACvsSCCGEO StartedAt: 2025-11-20 10:55:54 -0500 (Thu, 20 Nov 2025) EndedAt: 2025-11-20 10:56:00 -0500 (Thu, 20 Nov 2025) EllapsedTime: 6.0 seconds RetCode: 0 Status: OK