Package: M3DExampleData Version: 1.37.0 Command: /home/biocbuild/bbs-3.23-bioc/R/bin/R CMD build --keep-empty-dirs --no-resave-data M3DExampleData StartedAt: 2025-11-13 11:28:10 -0500 (Thu, 13 Nov 2025) EndedAt: 2025-11-13 11:28:11 -0500 (Thu, 13 Nov 2025) EllapsedTime: 1.3 seconds RetCode: 0 Status: OK PackageFile: M3DExampleData_1.37.0.tar.gz PackageFileSize: 2.05 MiB