Package: MetaScope Version: 1.99.10 Command: /home/biocbuild/bbs-3.23-bioc/R/bin/R CMD build --keep-empty-dirs --no-resave-data MetaScope StartedAt: 2025-11-13 11:30:33 -0500 (Thu, 13 Nov 2025) EndedAt: 2025-11-13 11:40:47 -0500 (Thu, 13 Nov 2025) EllapsedTime: 614.2 seconds RetCode: 1 Status: ERROR PackageFile: None PackageFileSize: NA