Package: MetaScope Version: 1.99.10 Command: /home/biocbuild/bbs-3.23-bioc/R/bin/R CMD INSTALL MetaScope StartedAt: 2025-11-13 11:01:10 -0500 (Thu, 13 Nov 2025) EndedAt: 2025-11-13 11:01:19 -0500 (Thu, 13 Nov 2025) EllapsedTime: 9.3 seconds RetCode: 0 Status: OK