Package: QDNAseq.hg19 Version: 1.41.0 Command: /home/biocbuild/bbs-3.23-bioc/R/bin/R CMD INSTALL QDNAseq.hg19 StartedAt: 2025-11-13 11:02:35 -0500 (Thu, 13 Nov 2025) EndedAt: 2025-11-13 11:02:48 -0500 (Thu, 13 Nov 2025) EllapsedTime: 12.4 seconds RetCode: 0 Status: OK