Package: RTCGA.mRNA Version: 1.39.0 Command: /home/biocbuild/bbs-3.23-bioc/R/bin/R CMD INSTALL RTCGA.mRNA StartedAt: 2025-11-13 11:04:22 -0500 (Thu, 13 Nov 2025) EndedAt: 2025-11-13 11:04:55 -0500 (Thu, 13 Nov 2025) EllapsedTime: 33.3 seconds RetCode: 0 Status: OK