Package: RTCGA.methylation Version: 1.39.0 Command: /home/biocbuild/bbs-3.23-bioc/R/bin/R CMD build --keep-empty-dirs --no-resave-data RTCGA.methylation StartedAt: 2025-11-13 11:39:54 -0500 (Thu, 13 Nov 2025) EndedAt: 2025-11-13 11:43:06 -0500 (Thu, 13 Nov 2025) EllapsedTime: 191.9 seconds RetCode: 0 Status: OK PackageFile: RTCGA.methylation_1.39.0.tar.gz PackageFileSize: 622.8 MiB