Package: RTCGA.mutations Version: 20151101.41.0 Command: /home/biocbuild/bbs-3.23-bioc/R/bin/R CMD build --keep-empty-dirs --no-resave-data RTCGA.mutations StartedAt: 2025-11-13 11:40:17 -0500 (Thu, 13 Nov 2025) EndedAt: 2025-11-13 11:43:41 -0500 (Thu, 13 Nov 2025) EllapsedTime: 203.2 seconds RetCode: 0 Status: OK PackageFile: RTCGA.mutations_20151101.41.0.tar.gz PackageFileSize: 103.8 MiB