Package: RcisTarget.hg19.motifDBs.cisbpOnly.500bp Version: 1.31.0 Command: /home/biocbuild/bbs-3.23-bioc/R/bin/R CMD build --keep-empty-dirs --no-resave-data RcisTarget.hg19.motifDBs.cisbpOnly.500bp StartedAt: 2025-11-13 11:38:06 -0500 (Thu, 13 Nov 2025) EndedAt: 2025-11-13 11:38:18 -0500 (Thu, 13 Nov 2025) EllapsedTime: 12.3 seconds RetCode: 0 Status: OK PackageFile: RcisTarget.hg19.motifDBs.cisbpOnly.500bp_1.31.0.tar.gz PackageFileSize: 53.48 MiB