Package: ReactomeGSA.data Version: 1.25.0 Command: /home/biocbuild/bbs-3.23-bioc/R/bin/R CMD INSTALL ReactomeGSA.data StartedAt: 2025-11-13 11:03:35 -0500 (Thu, 13 Nov 2025) EndedAt: 2025-11-13 11:03:54 -0500 (Thu, 13 Nov 2025) EllapsedTime: 19.3 seconds RetCode: 0 Status: OK