Package: SimBenchData Version: 1.19.0 Command: /home/biocbuild/bbs-3.23-bioc/R/bin/R CMD build --keep-empty-dirs --no-resave-data SimBenchData StartedAt: 2025-11-13 11:43:15 -0500 (Thu, 13 Nov 2025) EndedAt: 2025-11-13 11:43:37 -0500 (Thu, 13 Nov 2025) EllapsedTime: 21.9 seconds RetCode: 0 Status: OK PackageFile: SimBenchData_1.19.0.tar.gz PackageFileSize: 236 KiB