Package: SingleCellMultiModal Version: 1.23.0 Command: /home/biocbuild/bbs-3.23-bioc/R/bin/R CMD build --keep-empty-dirs --no-resave-data SingleCellMultiModal StartedAt: 2025-11-13 11:43:28 -0500 (Thu, 13 Nov 2025) EndedAt: 2025-11-13 11:49:34 -0500 (Thu, 13 Nov 2025) EllapsedTime: 365.9 seconds RetCode: 0 Status: OK PackageFile: SingleCellMultiModal_1.23.0.tar.gz PackageFileSize: 2.887 MiB