Package: SomaticCancerAlterations Version: 1.47.0 Command: /home/biocbuild/bbs-3.23-bioc/R/bin/R CMD INSTALL SomaticCancerAlterations StartedAt: 2025-11-13 10:57:59 -0500 (Thu, 13 Nov 2025) EndedAt: 2025-11-13 10:58:07 -0500 (Thu, 13 Nov 2025) EllapsedTime: 7.4 seconds RetCode: 0 Status: OK