Package: SpatialDatasets Version: 1.9.0 Command: /home/biocbuild/bbs-3.23-bioc/R/bin/R CMD build --keep-empty-dirs --no-resave-data SpatialDatasets StartedAt: 2025-11-13 11:43:55 -0500 (Thu, 13 Nov 2025) EndedAt: 2025-11-13 12:02:16 -0500 (Thu, 13 Nov 2025) EllapsedTime: 1101.1 seconds RetCode: 0 Status: OK PackageFile: SpatialDatasets_1.9.0.tar.gz PackageFileSize: 227.8 KiB